BEGIN:VCALENDAR
PRODID:http://www.kufer.de/kuferweb / DE
VERSION:2.0
METHOD:PUBLISH
CALSCALE:GREGORIAN
X-WR-TIMEZONE:Europe/Berlin
BEGIN:VTIMEZONE
TZID:Europe/Berlin
X-LIC-LOCATION:Europe/Berlin
BEGIN:DAYLIGHT
TZOFFSETFROM:+0100
TZOFFSETTO:+0200
TZNAME:CEST
DTSTART;TZID=Europe/Berlin:19700329T020000
RRULE:FREQ=YEARLY;INTERVAL=1;BYDAY=-1SU;BYMONTH=3
END:DAYLIGHT
BEGIN:STANDARD
TZOFFSETFROM:+0200
TZOFFSETTO:+0100
TZNAME:CET
DTSTART;TZID=Europe/Berlin:19701025T030000
RRULE:FREQ=YEARLY;INTERVAL=1;BYDAY=-1SU;BYMONTH=10
END:STANDARD
END:VTIMEZONE
BEGIN:VEVENT
DTSTAMP:20260421T220237
DTSTART;TZID=Europe/Berlin:20260429T210000
DTEND;TZID=Europe/Berlin:20260429T220000
UID:261-95203G-20260429T210000@VHS CALENBERGER LAND
SUMMARY:Zusatzkurs Pilates Körpertraining - für Geübte (261-95203G) 
LOCATION:GE-Turnhalle, Langefeldstr., 30989 Gehrden
END:VEVENT
BEGIN:VEVENT
DTSTAMP:20260421T220237
DTSTART;TZID=Europe/Berlin:20260506T210000
DTEND;TZID=Europe/Berlin:20260506T220000
UID:261-95203G-20260506T210000@VHS CALENBERGER LAND
SUMMARY:Zusatzkurs Pilates Körpertraining - für Geübte (261-95203G) 
LOCATION:GE-Turnhalle, Langefeldstr., 30989 Gehrden
END:VEVENT
BEGIN:VEVENT
DTSTAMP:20260421T220237
DTSTART;TZID=Europe/Berlin:20260513T210000
DTEND;TZID=Europe/Berlin:20260513T220000
UID:261-95203G-20260513T210000@VHS CALENBERGER LAND
SUMMARY:Zusatzkurs Pilates Körpertraining - für Geübte (261-95203G) 
LOCATION:GE-Turnhalle, Langefeldstr., 30989 Gehrden
END:VEVENT
BEGIN:VEVENT
DTSTAMP:20260421T220237
DTSTART;TZID=Europe/Berlin:20260520T210000
DTEND;TZID=Europe/Berlin:20260520T220000
UID:261-95203G-20260520T210000@VHS CALENBERGER LAND
SUMMARY:Zusatzkurs Pilates Körpertraining - für Geübte (261-95203G) 
LOCATION:GE-Turnhalle, Langefeldstr., 30989 Gehrden
END:VEVENT
BEGIN:VEVENT
DTSTAMP:20260421T220237
DTSTART;TZID=Europe/Berlin:20260527T210000
DTEND;TZID=Europe/Berlin:20260527T220000
UID:261-95203G-20260527T210000@VHS CALENBERGER LAND
SUMMARY:Zusatzkurs Pilates Körpertraining - für Geübte (261-95203G) 
LOCATION:GE-Turnhalle, Langefeldstr., 30989 Gehrden
END:VEVENT
BEGIN:VEVENT
DTSTAMP:20260421T220237
DTSTART;TZID=Europe/Berlin:20260603T210000
DTEND;TZID=Europe/Berlin:20260603T220000
UID:261-95203G-20260603T210000@VHS CALENBERGER LAND
SUMMARY:Zusatzkurs Pilates Körpertraining - für Geübte (261-95203G) 
LOCATION:GE-Turnhalle, Langefeldstr., 30989 Gehrden
END:VEVENT
BEGIN:VEVENT
DTSTAMP:20260421T220237
DTSTART;TZID=Europe/Berlin:20260610T210000
DTEND;TZID=Europe/Berlin:20260610T220000
UID:261-95203G-20260610T210000@VHS CALENBERGER LAND
SUMMARY:Zusatzkurs Pilates Körpertraining - für Geübte (261-95203G) 
LOCATION:GE-Turnhalle, Langefeldstr., 30989 Gehrden
END:VEVENT
BEGIN:VEVENT
DTSTAMP:20260421T220237
DTSTART;TZID=Europe/Berlin:20260617T210000
DTEND;TZID=Europe/Berlin:20260617T220000
UID:261-95203G-20260617T210000@VHS CALENBERGER LAND
SUMMARY:Zusatzkurs Pilates Körpertraining - für Geübte (261-95203G) 
LOCATION:GE-Turnhalle, Langefeldstr., 30989 Gehrden
END:VEVENT
BEGIN:VEVENT
DTSTAMP:20260421T220237
DTSTART;TZID=Europe/Berlin:20260624T210000
DTEND;TZID=Europe/Berlin:20260624T220000
UID:261-95203G-20260624T210000@VHS CALENBERGER LAND
SUMMARY:Zusatzkurs Pilates Körpertraining - für Geübte (261-95203G) 
LOCATION:GE-Turnhalle, Langefeldstr., 30989 Gehrden
END:VEVENT
END:VCALENDAR