BEGIN:VCALENDAR
PRODID:http://www.kufer.de/kuferweb / DE
VERSION:2.0
METHOD:PUBLISH
CALSCALE:GREGORIAN
X-WR-TIMEZONE:Europe/Berlin
BEGIN:VTIMEZONE
TZID:Europe/Berlin
X-LIC-LOCATION:Europe/Berlin
BEGIN:DAYLIGHT
TZOFFSETFROM:+0100
TZOFFSETTO:+0200
TZNAME:CEST
DTSTART;TZID=Europe/Berlin:19700329T020000
RRULE:FREQ=YEARLY;INTERVAL=1;BYDAY=-1SU;BYMONTH=3
END:DAYLIGHT
BEGIN:STANDARD
TZOFFSETFROM:+0200
TZOFFSETTO:+0100
TZNAME:CET
DTSTART;TZID=Europe/Berlin:19701025T030000
RRULE:FREQ=YEARLY;INTERVAL=1;BYDAY=-1SU;BYMONTH=10
END:STANDARD
END:VTIMEZONE
BEGIN:VEVENT
DTSTAMP:20260420T232927
DTSTART;TZID=Europe/Berlin:20260622T084500
DTEND;TZID=Europe/Berlin:20260622T094500
UID:261-96206G-20260622T084500@VHS CALENBERGER LAND
SUMMARY:Zusatzkurs Funktions- und Ausgleichsgymnastik - Fit ab 60 (261-96206G) 
LOCATION:GE-SV-Sportcenter, Lange Feldstr. 16, 30989 Gehrden 
END:VEVENT
BEGIN:VEVENT
DTSTAMP:20260420T232927
DTSTART;TZID=Europe/Berlin:20260629T084500
DTEND;TZID=Europe/Berlin:20260629T094500
UID:261-96206G-20260629T084500@VHS CALENBERGER LAND
SUMMARY:Zusatzkurs Funktions- und Ausgleichsgymnastik - Fit ab 60 (261-96206G) 
LOCATION:GE-SV-Sportcenter, Lange Feldstr. 16, 30989 Gehrden 
END:VEVENT
BEGIN:VEVENT
DTSTAMP:20260420T232927
DTSTART;TZID=Europe/Berlin:20260817T084500
DTEND;TZID=Europe/Berlin:20260817T094500
UID:261-96206G-20260817T084500@VHS CALENBERGER LAND
SUMMARY:Zusatzkurs Funktions- und Ausgleichsgymnastik - Fit ab 60 (261-96206G) 
LOCATION:GE-SV-Sportcenter, Lange Feldstr. 16, 30989 Gehrden 
END:VEVENT
BEGIN:VEVENT
DTSTAMP:20260420T232927
DTSTART;TZID=Europe/Berlin:20260824T084500
DTEND;TZID=Europe/Berlin:20260824T094500
UID:261-96206G-20260824T084500@VHS CALENBERGER LAND
SUMMARY:Zusatzkurs Funktions- und Ausgleichsgymnastik - Fit ab 60 (261-96206G) 
LOCATION:GE-SV-Sportcenter, Lange Feldstr. 16, 30989 Gehrden 
END:VEVENT
BEGIN:VEVENT
DTSTAMP:20260420T232927
DTSTART;TZID=Europe/Berlin:20260831T084500
DTEND;TZID=Europe/Berlin:20260831T094500
UID:261-96206G-20260831T084500@VHS CALENBERGER LAND
SUMMARY:Zusatzkurs Funktions- und Ausgleichsgymnastik - Fit ab 60 (261-96206G) 
LOCATION:GE-SV-Sportcenter, Lange Feldstr. 16, 30989 Gehrden 
END:VEVENT
END:VCALENDAR