BEGIN:VCALENDAR
PRODID:http://www.kufer.de/kuferweb / DE
VERSION:2.0
METHOD:PUBLISH
CALSCALE:GREGORIAN
X-WR-TIMEZONE:Europe/Berlin
BEGIN:VTIMEZONE
TZID:Europe/Berlin
X-LIC-LOCATION:Europe/Berlin
BEGIN:DAYLIGHT
TZOFFSETFROM:+0100
TZOFFSETTO:+0200
TZNAME:CEST
DTSTART;TZID=Europe/Berlin:19700329T020000
RRULE:FREQ=YEARLY;INTERVAL=1;BYDAY=-1SU;BYMONTH=3
END:DAYLIGHT
BEGIN:STANDARD
TZOFFSETFROM:+0200
TZOFFSETTO:+0100
TZNAME:CET
DTSTART;TZID=Europe/Berlin:19701025T030000
RRULE:FREQ=YEARLY;INTERVAL=1;BYDAY=-1SU;BYMONTH=10
END:STANDARD
END:VTIMEZONE
BEGIN:VEVENT
DTSTAMP:20260424T170516
DTSTART;TZID=Europe/Berlin:20260824T163000
DTEND;TZID=Europe/Berlin:20260824T170000
UID:262-07203L-20260824T163000@VHS CALENBERGER LAND
SUMMARY:Regenbogenkurs: Grün für Schulkinder- Fortsetzung (262-07203L) 
LOCATION:SE-LE-GBG 014, Hirtenweg 22, 30926 Seelze, OT Letter
END:VEVENT
BEGIN:VEVENT
DTSTAMP:20260424T170516
DTSTART;TZID=Europe/Berlin:20260824T170000
DTEND;TZID=Europe/Berlin:20260824T180000
UID:262-07203L-20260824T170000@VHS CALENBERGER LAND
SUMMARY:Regenbogenkurs: Grün für Schulkinder- Fortsetzung (262-07203L) 
LOCATION:SE-LE-GBG 014, Hirtenweg 22, 30926 Seelze, OT Letter
END:VEVENT
BEGIN:VEVENT
DTSTAMP:20260424T170516
DTSTART;TZID=Europe/Berlin:20260831T163000
DTEND;TZID=Europe/Berlin:20260831T170000
UID:262-07203L-20260831T163000@VHS CALENBERGER LAND
SUMMARY:Regenbogenkurs: Grün für Schulkinder- Fortsetzung (262-07203L) 
LOCATION:SE-LE-GBG 014, Hirtenweg 22, 30926 Seelze, OT Letter
END:VEVENT
BEGIN:VEVENT
DTSTAMP:20260424T170516
DTSTART;TZID=Europe/Berlin:20260831T170000
DTEND;TZID=Europe/Berlin:20260831T180000
UID:262-07203L-20260831T170000@VHS CALENBERGER LAND
SUMMARY:Regenbogenkurs: Grün für Schulkinder- Fortsetzung (262-07203L) 
LOCATION:SE-LE-GBG 014, Hirtenweg 22, 30926 Seelze, OT Letter
END:VEVENT
BEGIN:VEVENT
DTSTAMP:20260424T170516
DTSTART;TZID=Europe/Berlin:20260907T163000
DTEND;TZID=Europe/Berlin:20260907T170000
UID:262-07203L-20260907T163000@VHS CALENBERGER LAND
SUMMARY:Regenbogenkurs: Grün für Schulkinder- Fortsetzung (262-07203L) 
LOCATION:SE-LE-GBG 014, Hirtenweg 22, 30926 Seelze, OT Letter
END:VEVENT
BEGIN:VEVENT
DTSTAMP:20260424T170516
DTSTART;TZID=Europe/Berlin:20260907T170000
DTEND;TZID=Europe/Berlin:20260907T180000
UID:262-07203L-20260907T170000@VHS CALENBERGER LAND
SUMMARY:Regenbogenkurs: Grün für Schulkinder- Fortsetzung (262-07203L) 
LOCATION:SE-LE-GBG 014, Hirtenweg 22, 30926 Seelze, OT Letter
END:VEVENT
BEGIN:VEVENT
DTSTAMP:20260424T170516
DTSTART;TZID=Europe/Berlin:20260914T163000
DTEND;TZID=Europe/Berlin:20260914T170000
UID:262-07203L-20260914T163000@VHS CALENBERGER LAND
SUMMARY:Regenbogenkurs: Grün für Schulkinder- Fortsetzung (262-07203L) 
LOCATION:SE-LE-GBG 014, Hirtenweg 22, 30926 Seelze, OT Letter
END:VEVENT
BEGIN:VEVENT
DTSTAMP:20260424T170516
DTSTART;TZID=Europe/Berlin:20260914T170000
DTEND;TZID=Europe/Berlin:20260914T180000
UID:262-07203L-20260914T170000@VHS CALENBERGER LAND
SUMMARY:Regenbogenkurs: Grün für Schulkinder- Fortsetzung (262-07203L) 
LOCATION:SE-LE-GBG 014, Hirtenweg 22, 30926 Seelze, OT Letter
END:VEVENT
BEGIN:VEVENT
DTSTAMP:20260424T170516
DTSTART;TZID=Europe/Berlin:20260921T163000
DTEND;TZID=Europe/Berlin:20260921T170000
UID:262-07203L-20260921T163000@VHS CALENBERGER LAND
SUMMARY:Regenbogenkurs: Grün für Schulkinder- Fortsetzung (262-07203L) 
LOCATION:SE-LE-GBG 014, Hirtenweg 22, 30926 Seelze, OT Letter
END:VEVENT
BEGIN:VEVENT
DTSTAMP:20260424T170516
DTSTART;TZID=Europe/Berlin:20260921T170000
DTEND;TZID=Europe/Berlin:20260921T180000
UID:262-07203L-20260921T170000@VHS CALENBERGER LAND
SUMMARY:Regenbogenkurs: Grün für Schulkinder- Fortsetzung (262-07203L) 
LOCATION:SE-LE-GBG 014, Hirtenweg 22, 30926 Seelze, OT Letter
END:VEVENT
BEGIN:VEVENT
DTSTAMP:20260424T170516
DTSTART;TZID=Europe/Berlin:20260928T163000
DTEND;TZID=Europe/Berlin:20260928T170000
UID:262-07203L-20260928T163000@VHS CALENBERGER LAND
SUMMARY:Regenbogenkurs: Grün für Schulkinder- Fortsetzung (262-07203L) 
LOCATION:SE-LE-GBG 014, Hirtenweg 22, 30926 Seelze, OT Letter
END:VEVENT
BEGIN:VEVENT
DTSTAMP:20260424T170516
DTSTART;TZID=Europe/Berlin:20260928T170000
DTEND;TZID=Europe/Berlin:20260928T180000
UID:262-07203L-20260928T170000@VHS CALENBERGER LAND
SUMMARY:Regenbogenkurs: Grün für Schulkinder- Fortsetzung (262-07203L) 
LOCATION:SE-LE-GBG 014, Hirtenweg 22, 30926 Seelze, OT Letter
END:VEVENT
BEGIN:VEVENT
DTSTAMP:20260424T170516
DTSTART;TZID=Europe/Berlin:20261005T163000
DTEND;TZID=Europe/Berlin:20261005T170000
UID:262-07203L-20261005T163000@VHS CALENBERGER LAND
SUMMARY:Regenbogenkurs: Grün für Schulkinder- Fortsetzung (262-07203L) 
LOCATION:SE-LE-GBG 014, Hirtenweg 22, 30926 Seelze, OT Letter
END:VEVENT
BEGIN:VEVENT
DTSTAMP:20260424T170516
DTSTART;TZID=Europe/Berlin:20261005T170000
DTEND;TZID=Europe/Berlin:20261005T180000
UID:262-07203L-20261005T170000@VHS CALENBERGER LAND
SUMMARY:Regenbogenkurs: Grün für Schulkinder- Fortsetzung (262-07203L) 
LOCATION:SE-LE-GBG 014, Hirtenweg 22, 30926 Seelze, OT Letter
END:VEVENT
BEGIN:VEVENT
DTSTAMP:20260424T170516
DTSTART;TZID=Europe/Berlin:20261026T163000
DTEND;TZID=Europe/Berlin:20261026T170000
UID:262-07203L-20261026T163000@VHS CALENBERGER LAND
SUMMARY:Regenbogenkurs: Grün für Schulkinder- Fortsetzung (262-07203L) 
LOCATION:SE-LE-GBG 014, Hirtenweg 22, 30926 Seelze, OT Letter
END:VEVENT
BEGIN:VEVENT
DTSTAMP:20260424T170516
DTSTART;TZID=Europe/Berlin:20261026T170000
DTEND;TZID=Europe/Berlin:20261026T180000
UID:262-07203L-20261026T170000@VHS CALENBERGER LAND
SUMMARY:Regenbogenkurs: Grün für Schulkinder- Fortsetzung (262-07203L) 
LOCATION:SE-LE-GBG 014, Hirtenweg 22, 30926 Seelze, OT Letter
END:VEVENT
BEGIN:VEVENT
DTSTAMP:20260424T170516
DTSTART;TZID=Europe/Berlin:20261102T163000
DTEND;TZID=Europe/Berlin:20261102T170000
UID:262-07203L-20261102T163000@VHS CALENBERGER LAND
SUMMARY:Regenbogenkurs: Grün für Schulkinder- Fortsetzung (262-07203L) 
LOCATION:SE-LE-GBG 014, Hirtenweg 22, 30926 Seelze, OT Letter
END:VEVENT
BEGIN:VEVENT
DTSTAMP:20260424T170516
DTSTART;TZID=Europe/Berlin:20261102T170000
DTEND;TZID=Europe/Berlin:20261102T180000
UID:262-07203L-20261102T170000@VHS CALENBERGER LAND
SUMMARY:Regenbogenkurs: Grün für Schulkinder- Fortsetzung (262-07203L) 
LOCATION:SE-LE-GBG 014, Hirtenweg 22, 30926 Seelze, OT Letter
END:VEVENT
BEGIN:VEVENT
DTSTAMP:20260424T170516
DTSTART;TZID=Europe/Berlin:20261109T163000
DTEND;TZID=Europe/Berlin:20261109T170000
UID:262-07203L-20261109T163000@VHS CALENBERGER LAND
SUMMARY:Regenbogenkurs: Grün für Schulkinder- Fortsetzung (262-07203L) 
LOCATION:SE-LE-GBG 014, Hirtenweg 22, 30926 Seelze, OT Letter
END:VEVENT
BEGIN:VEVENT
DTSTAMP:20260424T170516
DTSTART;TZID=Europe/Berlin:20261109T170000
DTEND;TZID=Europe/Berlin:20261109T180000
UID:262-07203L-20261109T170000@VHS CALENBERGER LAND
SUMMARY:Regenbogenkurs: Grün für Schulkinder- Fortsetzung (262-07203L) 
LOCATION:SE-LE-GBG 014, Hirtenweg 22, 30926 Seelze, OT Letter
END:VEVENT
BEGIN:VEVENT
DTSTAMP:20260424T170516
DTSTART;TZID=Europe/Berlin:20261116T163000
DTEND;TZID=Europe/Berlin:20261116T170000
UID:262-07203L-20261116T163000@VHS CALENBERGER LAND
SUMMARY:Regenbogenkurs: Grün für Schulkinder- Fortsetzung (262-07203L) 
LOCATION:SE-LE-GBG 014, Hirtenweg 22, 30926 Seelze, OT Letter
END:VEVENT
BEGIN:VEVENT
DTSTAMP:20260424T170516
DTSTART;TZID=Europe/Berlin:20261116T170000
DTEND;TZID=Europe/Berlin:20261116T180000
UID:262-07203L-20261116T170000@VHS CALENBERGER LAND
SUMMARY:Regenbogenkurs: Grün für Schulkinder- Fortsetzung (262-07203L) 
LOCATION:SE-LE-GBG 014, Hirtenweg 22, 30926 Seelze, OT Letter
END:VEVENT
BEGIN:VEVENT
DTSTAMP:20260424T170516
DTSTART;TZID=Europe/Berlin:20261123T163000
DTEND;TZID=Europe/Berlin:20261123T170000
UID:262-07203L-20261123T163000@VHS CALENBERGER LAND
SUMMARY:Regenbogenkurs: Grün für Schulkinder- Fortsetzung (262-07203L) 
LOCATION:SE-LE-GBG 014, Hirtenweg 22, 30926 Seelze, OT Letter
END:VEVENT
BEGIN:VEVENT
DTSTAMP:20260424T170516
DTSTART;TZID=Europe/Berlin:20261123T170000
DTEND;TZID=Europe/Berlin:20261123T180000
UID:262-07203L-20261123T170000@VHS CALENBERGER LAND
SUMMARY:Regenbogenkurs: Grün für Schulkinder- Fortsetzung (262-07203L) 
LOCATION:SE-LE-GBG 014, Hirtenweg 22, 30926 Seelze, OT Letter
END:VEVENT
BEGIN:VEVENT
DTSTAMP:20260424T170516
DTSTART;TZID=Europe/Berlin:20261130T163000
DTEND;TZID=Europe/Berlin:20261130T170000
UID:262-07203L-20261130T163000@VHS CALENBERGER LAND
SUMMARY:Regenbogenkurs: Grün für Schulkinder- Fortsetzung (262-07203L) 
LOCATION:SE-LE-GBG 014, Hirtenweg 22, 30926 Seelze, OT Letter
END:VEVENT
BEGIN:VEVENT
DTSTAMP:20260424T170516
DTSTART;TZID=Europe/Berlin:20261130T170000
DTEND;TZID=Europe/Berlin:20261130T180000
UID:262-07203L-20261130T170000@VHS CALENBERGER LAND
SUMMARY:Regenbogenkurs: Grün für Schulkinder- Fortsetzung (262-07203L) 
LOCATION:SE-LE-GBG 014, Hirtenweg 22, 30926 Seelze, OT Letter
END:VEVENT
BEGIN:VEVENT
DTSTAMP:20260424T170516
DTSTART;TZID=Europe/Berlin:20261207T163000
DTEND;TZID=Europe/Berlin:20261207T170000
UID:262-07203L-20261207T163000@VHS CALENBERGER LAND
SUMMARY:Regenbogenkurs: Grün für Schulkinder- Fortsetzung (262-07203L) 
LOCATION:SE-LE-GBG 014, Hirtenweg 22, 30926 Seelze, OT Letter
END:VEVENT
BEGIN:VEVENT
DTSTAMP:20260424T170516
DTSTART;TZID=Europe/Berlin:20261207T170000
DTEND;TZID=Europe/Berlin:20261207T180000
UID:262-07203L-20261207T170000@VHS CALENBERGER LAND
SUMMARY:Regenbogenkurs: Grün für Schulkinder- Fortsetzung (262-07203L) 
LOCATION:SE-LE-GBG 014, Hirtenweg 22, 30926 Seelze, OT Letter
END:VEVENT
BEGIN:VEVENT
DTSTAMP:20260424T170516
DTSTART;TZID=Europe/Berlin:20261214T163000
DTEND;TZID=Europe/Berlin:20261214T170000
UID:262-07203L-20261214T163000@VHS CALENBERGER LAND
SUMMARY:Regenbogenkurs: Grün für Schulkinder- Fortsetzung (262-07203L) 
LOCATION:SE-LE-GBG 014, Hirtenweg 22, 30926 Seelze, OT Letter
END:VEVENT
BEGIN:VEVENT
DTSTAMP:20260424T170516
DTSTART;TZID=Europe/Berlin:20261214T170000
DTEND;TZID=Europe/Berlin:20261214T180000
UID:262-07203L-20261214T170000@VHS CALENBERGER LAND
SUMMARY:Regenbogenkurs: Grün für Schulkinder- Fortsetzung (262-07203L) 
LOCATION:SE-LE-GBG 014, Hirtenweg 22, 30926 Seelze, OT Letter
END:VEVENT
BEGIN:VEVENT
DTSTAMP:20260424T170516
DTSTART;TZID=Europe/Berlin:20261221T163000
DTEND;TZID=Europe/Berlin:20261221T170000
UID:262-07203L-20261221T163000@VHS CALENBERGER LAND
SUMMARY:Regenbogenkurs: Grün für Schulkinder- Fortsetzung (262-07203L) 
LOCATION:SE-LE-GBG 014, Hirtenweg 22, 30926 Seelze, OT Letter
END:VEVENT
BEGIN:VEVENT
DTSTAMP:20260424T170516
DTSTART;TZID=Europe/Berlin:20261221T170000
DTEND;TZID=Europe/Berlin:20261221T180000
UID:262-07203L-20261221T170000@VHS CALENBERGER LAND
SUMMARY:Regenbogenkurs: Grün für Schulkinder- Fortsetzung (262-07203L) 
LOCATION:SE-LE-GBG 014, Hirtenweg 22, 30926 Seelze, OT Letter
END:VEVENT
BEGIN:VEVENT
DTSTAMP:20260424T170516
DTSTART;TZID=Europe/Berlin:20270111T163000
DTEND;TZID=Europe/Berlin:20270111T170000
UID:262-07203L-20270111T163000@VHS CALENBERGER LAND
SUMMARY:Regenbogenkurs: Grün für Schulkinder- Fortsetzung (262-07203L) 
LOCATION:SE-LE-GBG 014, Hirtenweg 22, 30926 Seelze, OT Letter
END:VEVENT
BEGIN:VEVENT
DTSTAMP:20260424T170516
DTSTART;TZID=Europe/Berlin:20270111T170000
DTEND;TZID=Europe/Berlin:20270111T180000
UID:262-07203L-20270111T170000@VHS CALENBERGER LAND
SUMMARY:Regenbogenkurs: Grün für Schulkinder- Fortsetzung (262-07203L) 
LOCATION:SE-LE-GBG 014, Hirtenweg 22, 30926 Seelze, OT Letter
END:VEVENT
BEGIN:VEVENT
DTSTAMP:20260424T170516
DTSTART;TZID=Europe/Berlin:20270118T163000
DTEND;TZID=Europe/Berlin:20270118T170000
UID:262-07203L-20270118T163000@VHS CALENBERGER LAND
SUMMARY:Regenbogenkurs: Grün für Schulkinder- Fortsetzung (262-07203L) 
LOCATION:SE-LE-GBG 014, Hirtenweg 22, 30926 Seelze, OT Letter
END:VEVENT
BEGIN:VEVENT
DTSTAMP:20260424T170516
DTSTART;TZID=Europe/Berlin:20270118T170000
DTEND;TZID=Europe/Berlin:20270118T180000
UID:262-07203L-20270118T170000@VHS CALENBERGER LAND
SUMMARY:Regenbogenkurs: Grün für Schulkinder- Fortsetzung (262-07203L) 
LOCATION:SE-LE-GBG 014, Hirtenweg 22, 30926 Seelze, OT Letter
END:VEVENT
END:VCALENDAR