BEGIN:VCALENDAR
PRODID:http://www.kufer.de/kuferweb / DE
VERSION:2.0
METHOD:PUBLISH
CALSCALE:GREGORIAN
X-WR-TIMEZONE:Europe/Berlin
BEGIN:VTIMEZONE
TZID:Europe/Berlin
X-LIC-LOCATION:Europe/Berlin
BEGIN:DAYLIGHT
TZOFFSETFROM:+0100
TZOFFSETTO:+0200
TZNAME:CEST
DTSTART;TZID=Europe/Berlin:19700329T020000
RRULE:FREQ=YEARLY;INTERVAL=1;BYDAY=-1SU;BYMONTH=3
END:DAYLIGHT
BEGIN:STANDARD
TZOFFSETFROM:+0200
TZOFFSETTO:+0100
TZNAME:CET
DTSTART;TZID=Europe/Berlin:19701025T030000
RRULE:FREQ=YEARLY;INTERVAL=1;BYDAY=-1SU;BYMONTH=10
END:STANDARD
END:VTIMEZONE
BEGIN:VEVENT
DTSTAMP:20260422T171541
DTSTART;TZID=Europe/Berlin:20260928T174500
DTEND;TZID=Europe/Berlin:20260928T204500
UID:262-54100S-20260928T174500@VHS CALENBERGER LAND
SUMMARY:VHS PC-Treff (262-54100S) 
LOCATION:SP-VHS EDV, Bahnhofstr. 38, 31832 Springe
END:VEVENT
BEGIN:VEVENT
DTSTAMP:20260422T171541
DTSTART;TZID=Europe/Berlin:20261026T174500
DTEND;TZID=Europe/Berlin:20261026T204500
UID:262-54100S-20261026T174500@VHS CALENBERGER LAND
SUMMARY:VHS PC-Treff (262-54100S) 
LOCATION:SP-VHS EDV, Bahnhofstr. 38, 31832 Springe
END:VEVENT
BEGIN:VEVENT
DTSTAMP:20260422T171541
DTSTART;TZID=Europe/Berlin:20261123T174500
DTEND;TZID=Europe/Berlin:20261123T204500
UID:262-54100S-20261123T174500@VHS CALENBERGER LAND
SUMMARY:VHS PC-Treff (262-54100S) 
LOCATION:SP-VHS EDV, Bahnhofstr. 38, 31832 Springe
END:VEVENT
END:VCALENDAR