BEGIN:VCALENDAR
PRODID:http://www.kufer.de/kuferweb / DE
VERSION:2.0
METHOD:PUBLISH
CALSCALE:GREGORIAN
X-WR-TIMEZONE:Europe/Berlin
BEGIN:VTIMEZONE
TZID:Europe/Berlin
X-LIC-LOCATION:Europe/Berlin
BEGIN:DAYLIGHT
TZOFFSETFROM:+0100
TZOFFSETTO:+0200
TZNAME:CEST
DTSTART;TZID=Europe/Berlin:19700329T020000
RRULE:FREQ=YEARLY;INTERVAL=1;BYDAY=-1SU;BYMONTH=3
END:DAYLIGHT
BEGIN:STANDARD
TZOFFSETFROM:+0200
TZOFFSETTO:+0100
TZNAME:CET
DTSTART;TZID=Europe/Berlin:19701025T030000
RRULE:FREQ=YEARLY;INTERVAL=1;BYDAY=-1SU;BYMONTH=10
END:STANDARD
END:VTIMEZONE
BEGIN:VEVENT
DTSTAMP:20260424T185924
DTSTART;TZID=Europe/Berlin:20261109T093000
DTEND;TZID=Europe/Berlin:20261109T114500
UID:262-54331S-20261109T093000@VHS CALENBERGER LAND
SUMMARY:Der iPhone-Vormittag: Alles Wichtige in kleinen Schritten (262-54331S) 
LOCATION:SP-VHS S 1, Bahnhofstr. 38, 31832 Springe
END:VEVENT
BEGIN:VEVENT
DTSTAMP:20260424T185924
DTSTART;TZID=Europe/Berlin:20261111T093000
DTEND;TZID=Europe/Berlin:20261111T114500
UID:262-54331S-20261111T093000@VHS CALENBERGER LAND
SUMMARY:Der iPhone-Vormittag: Alles Wichtige in kleinen Schritten (262-54331S) 
LOCATION:SP-VHS S 1, Bahnhofstr. 38, 31832 Springe
END:VEVENT
END:VCALENDAR