BEGIN:VCALENDAR
PRODID:http://www.kufer.de/kuferweb / DE
VERSION:2.0
METHOD:PUBLISH
CALSCALE:GREGORIAN
X-WR-TIMEZONE:Europe/Berlin
BEGIN:VTIMEZONE
TZID:Europe/Berlin
X-LIC-LOCATION:Europe/Berlin
BEGIN:DAYLIGHT
TZOFFSETFROM:+0100
TZOFFSETTO:+0200
TZNAME:CEST
DTSTART;TZID=Europe/Berlin:19700329T020000
RRULE:FREQ=YEARLY;INTERVAL=1;BYDAY=-1SU;BYMONTH=3
END:DAYLIGHT
BEGIN:STANDARD
TZOFFSETFROM:+0200
TZOFFSETTO:+0100
TZNAME:CET
DTSTART;TZID=Europe/Berlin:19701025T030000
RRULE:FREQ=YEARLY;INTERVAL=1;BYDAY=-1SU;BYMONTH=10
END:STANDARD
END:VTIMEZONE
BEGIN:VEVENT
DTSTAMP:20260421T034830
DTSTART;TZID=Europe/Berlin:20260902T190000
DTEND;TZID=Europe/Berlin:20260902T211500
UID:262-87000W-20260902T190000@VHS CALENBERGER LAND
SUMMARY:Fotogruppe Bredenbeck – Leidenschaft für Fotografie (262-87000W) 
LOCATION:WE-DGH Bredenbeck, Wennigser Str. 15, 30974 Wennigsen
END:VEVENT
BEGIN:VEVENT
DTSTAMP:20260421T034830
DTSTART;TZID=Europe/Berlin:20260916T190000
DTEND;TZID=Europe/Berlin:20260916T211500
UID:262-87000W-20260916T190000@VHS CALENBERGER LAND
SUMMARY:Fotogruppe Bredenbeck – Leidenschaft für Fotografie (262-87000W) 
LOCATION:WE-DGH Bredenbeck, Wennigser Str. 15, 30974 Wennigsen
END:VEVENT
BEGIN:VEVENT
DTSTAMP:20260421T034830
DTSTART;TZID=Europe/Berlin:20260930T190000
DTEND;TZID=Europe/Berlin:20260930T211500
UID:262-87000W-20260930T190000@VHS CALENBERGER LAND
SUMMARY:Fotogruppe Bredenbeck – Leidenschaft für Fotografie (262-87000W) 
LOCATION:WE-DGH Bredenbeck, Wennigser Str. 15, 30974 Wennigsen
END:VEVENT
BEGIN:VEVENT
DTSTAMP:20260421T034830
DTSTART;TZID=Europe/Berlin:20261014T190000
DTEND;TZID=Europe/Berlin:20261014T211500
UID:262-87000W-20261014T190000@VHS CALENBERGER LAND
SUMMARY:Fotogruppe Bredenbeck – Leidenschaft für Fotografie (262-87000W) 
LOCATION:WE-DGH Bredenbeck, Wennigser Str. 15, 30974 Wennigsen
END:VEVENT
BEGIN:VEVENT
DTSTAMP:20260421T034830
DTSTART;TZID=Europe/Berlin:20261028T190000
DTEND;TZID=Europe/Berlin:20261028T211500
UID:262-87000W-20261028T190000@VHS CALENBERGER LAND
SUMMARY:Fotogruppe Bredenbeck – Leidenschaft für Fotografie (262-87000W) 
LOCATION:WE-DGH Bredenbeck, Wennigser Str. 15, 30974 Wennigsen
END:VEVENT
BEGIN:VEVENT
DTSTAMP:20260421T034830
DTSTART;TZID=Europe/Berlin:20261111T190000
DTEND;TZID=Europe/Berlin:20261111T211500
UID:262-87000W-20261111T190000@VHS CALENBERGER LAND
SUMMARY:Fotogruppe Bredenbeck – Leidenschaft für Fotografie (262-87000W) 
LOCATION:WE-DGH Bredenbeck, Wennigser Str. 15, 30974 Wennigsen
END:VEVENT
BEGIN:VEVENT
DTSTAMP:20260421T034830
DTSTART;TZID=Europe/Berlin:20261125T190000
DTEND;TZID=Europe/Berlin:20261125T211500
UID:262-87000W-20261125T190000@VHS CALENBERGER LAND
SUMMARY:Fotogruppe Bredenbeck – Leidenschaft für Fotografie (262-87000W) 
LOCATION:WE-DGH Bredenbeck, Wennigser Str. 15, 30974 Wennigsen
END:VEVENT
BEGIN:VEVENT
DTSTAMP:20260421T034830
DTSTART;TZID=Europe/Berlin:20261209T190000
DTEND;TZID=Europe/Berlin:20261209T211500
UID:262-87000W-20261209T190000@VHS CALENBERGER LAND
SUMMARY:Fotogruppe Bredenbeck – Leidenschaft für Fotografie (262-87000W) 
LOCATION:WE-DGH Bredenbeck, Wennigser Str. 15, 30974 Wennigsen
END:VEVENT
BEGIN:VEVENT
DTSTAMP:20260421T034830
DTSTART;TZID=Europe/Berlin:20261223T190000
DTEND;TZID=Europe/Berlin:20261223T211500
UID:262-87000W-20261223T190000@VHS CALENBERGER LAND
SUMMARY:Fotogruppe Bredenbeck – Leidenschaft für Fotografie (262-87000W) 
LOCATION:WE-DGH Bredenbeck, Wennigser Str. 15, 30974 Wennigsen
END:VEVENT
BEGIN:VEVENT
DTSTAMP:20260421T034830
DTSTART;TZID=Europe/Berlin:20270106T190000
DTEND;TZID=Europe/Berlin:20270106T211500
UID:262-87000W-20270106T190000@VHS CALENBERGER LAND
SUMMARY:Fotogruppe Bredenbeck – Leidenschaft für Fotografie (262-87000W) 
LOCATION:WE-DGH Bredenbeck, Wennigser Str. 15, 30974 Wennigsen
END:VEVENT
BEGIN:VEVENT
DTSTAMP:20260421T034830
DTSTART;TZID=Europe/Berlin:20270120T190000
DTEND;TZID=Europe/Berlin:20270120T211500
UID:262-87000W-20270120T190000@VHS CALENBERGER LAND
SUMMARY:Fotogruppe Bredenbeck – Leidenschaft für Fotografie (262-87000W) 
LOCATION:WE-DGH Bredenbeck, Wennigser Str. 15, 30974 Wennigsen
END:VEVENT
END:VCALENDAR