BEGIN:VCALENDAR
PRODID:http://www.kufer.de/kuferweb / DE
VERSION:2.0
METHOD:PUBLISH
CALSCALE:GREGORIAN
X-WR-TIMEZONE:Europe/Berlin
BEGIN:VTIMEZONE
TZID:Europe/Berlin
X-LIC-LOCATION:Europe/Berlin
BEGIN:DAYLIGHT
TZOFFSETFROM:+0100
TZOFFSETTO:+0200
TZNAME:CEST
DTSTART;TZID=Europe/Berlin:19700329T020000
RRULE:FREQ=YEARLY;INTERVAL=1;BYDAY=-1SU;BYMONTH=3
END:DAYLIGHT
BEGIN:STANDARD
TZOFFSETFROM:+0200
TZOFFSETTO:+0100
TZNAME:CET
DTSTART;TZID=Europe/Berlin:19701025T030000
RRULE:FREQ=YEARLY;INTERVAL=1;BYDAY=-1SU;BYMONTH=10
END:STANDARD
END:VTIMEZONE
BEGIN:VEVENT
DTSTAMP:20260421T034826
DTSTART;TZID=Europe/Berlin:20260907T180000
DTEND;TZID=Europe/Berlin:20260907T191500
UID:262-95373R-20260907T180000@VHS CALENBERGER LAND
SUMMARY:Hatha Yoga (Anfänger + Wiedereinsteiger) (262-95373R) 
LOCATION:RO-EM-VHS 2, Stille Str. 8 A, 30952 Ronnenberg, OT Empelde
END:VEVENT
BEGIN:VEVENT
DTSTAMP:20260421T034826
DTSTART;TZID=Europe/Berlin:20260914T180000
DTEND;TZID=Europe/Berlin:20260914T191500
UID:262-95373R-20260914T180000@VHS CALENBERGER LAND
SUMMARY:Hatha Yoga (Anfänger + Wiedereinsteiger) (262-95373R) 
LOCATION:RO-EM-VHS 2, Stille Str. 8 A, 30952 Ronnenberg, OT Empelde
END:VEVENT
BEGIN:VEVENT
DTSTAMP:20260421T034826
DTSTART;TZID=Europe/Berlin:20260921T180000
DTEND;TZID=Europe/Berlin:20260921T191500
UID:262-95373R-20260921T180000@VHS CALENBERGER LAND
SUMMARY:Hatha Yoga (Anfänger + Wiedereinsteiger) (262-95373R) 
LOCATION:RO-EM-VHS 2, Stille Str. 8 A, 30952 Ronnenberg, OT Empelde
END:VEVENT
BEGIN:VEVENT
DTSTAMP:20260421T034826
DTSTART;TZID=Europe/Berlin:20260928T180000
DTEND;TZID=Europe/Berlin:20260928T191500
UID:262-95373R-20260928T180000@VHS CALENBERGER LAND
SUMMARY:Hatha Yoga (Anfänger + Wiedereinsteiger) (262-95373R) 
LOCATION:RO-EM-VHS 2, Stille Str. 8 A, 30952 Ronnenberg, OT Empelde
END:VEVENT
BEGIN:VEVENT
DTSTAMP:20260421T034826
DTSTART;TZID=Europe/Berlin:20261005T180000
DTEND;TZID=Europe/Berlin:20261005T191500
UID:262-95373R-20261005T180000@VHS CALENBERGER LAND
SUMMARY:Hatha Yoga (Anfänger + Wiedereinsteiger) (262-95373R) 
LOCATION:RO-EM-VHS 2, Stille Str. 8 A, 30952 Ronnenberg, OT Empelde
END:VEVENT
BEGIN:VEVENT
DTSTAMP:20260421T034826
DTSTART;TZID=Europe/Berlin:20261026T180000
DTEND;TZID=Europe/Berlin:20261026T191500
UID:262-95373R-20261026T180000@VHS CALENBERGER LAND
SUMMARY:Hatha Yoga (Anfänger + Wiedereinsteiger) (262-95373R) 
LOCATION:RO-EM-VHS 2, Stille Str. 8 A, 30952 Ronnenberg, OT Empelde
END:VEVENT
BEGIN:VEVENT
DTSTAMP:20260421T034826
DTSTART;TZID=Europe/Berlin:20261102T180000
DTEND;TZID=Europe/Berlin:20261102T191500
UID:262-95373R-20261102T180000@VHS CALENBERGER LAND
SUMMARY:Hatha Yoga (Anfänger + Wiedereinsteiger) (262-95373R) 
LOCATION:RO-EM-VHS 2, Stille Str. 8 A, 30952 Ronnenberg, OT Empelde
END:VEVENT
BEGIN:VEVENT
DTSTAMP:20260421T034826
DTSTART;TZID=Europe/Berlin:20261109T180000
DTEND;TZID=Europe/Berlin:20261109T191500
UID:262-95373R-20261109T180000@VHS CALENBERGER LAND
SUMMARY:Hatha Yoga (Anfänger + Wiedereinsteiger) (262-95373R) 
LOCATION:RO-EM-VHS 2, Stille Str. 8 A, 30952 Ronnenberg, OT Empelde
END:VEVENT
BEGIN:VEVENT
DTSTAMP:20260421T034826
DTSTART;TZID=Europe/Berlin:20261116T180000
DTEND;TZID=Europe/Berlin:20261116T191500
UID:262-95373R-20261116T180000@VHS CALENBERGER LAND
SUMMARY:Hatha Yoga (Anfänger + Wiedereinsteiger) (262-95373R) 
LOCATION:RO-EM-VHS 2, Stille Str. 8 A, 30952 Ronnenberg, OT Empelde
END:VEVENT
BEGIN:VEVENT
DTSTAMP:20260421T034826
DTSTART;TZID=Europe/Berlin:20261123T180000
DTEND;TZID=Europe/Berlin:20261123T191500
UID:262-95373R-20261123T180000@VHS CALENBERGER LAND
SUMMARY:Hatha Yoga (Anfänger + Wiedereinsteiger) (262-95373R) 
LOCATION:RO-EM-VHS 2, Stille Str. 8 A, 30952 Ronnenberg, OT Empelde
END:VEVENT
END:VCALENDAR